BEGIN:VCALENDAR
VERSION:2.0
PRODID:-//ROA - ECPv6.15.15//NONSGML v1.0//EN
CALSCALE:GREGORIAN
METHOD:PUBLISH
X-WR-CALNAME:ROA
X-ORIGINAL-URL:https://roa.youare.ninja
X-WR-CALDESC:Events for ROA
REFRESH-INTERVAL;VALUE=DURATION:PT1H
X-Robots-Tag:noindex
X-PUBLISHED-TTL:PT1H
BEGIN:VTIMEZONE
TZID:UTC
BEGIN:STANDARD
TZOFFSETFROM:+0000
TZOFFSETTO:+0000
TZNAME:UTC
DTSTART:20280101T000000
END:STANDARD
END:VTIMEZONE
BEGIN:VEVENT
DTSTART;TZID=UTC:20290308T000000
DTEND;TZID=UTC:20290310T000000
DTSTAMP:20260421T030527
CREATED:20251218T053917Z
LAST-MODIFIED:20260114T220552Z
UID:8087-1867622400-1867795200@roa.youare.ninja
SUMMARY:2029 National Council & Leaders Conference
DESCRIPTION:
URL:https://roa.youare.ninja/event/2029-national-council-leaders-conference/
CATEGORIES:National
END:VEVENT
END:VCALENDAR