BEGIN:VCALENDAR
VERSION:2.0
PRODID:-//ROA - ECPv6.15.15//NONSGML v1.0//EN
CALSCALE:GREGORIAN
METHOD:PUBLISH
X-ORIGINAL-URL:https://roa.youare.ninja
X-WR-CALDESC:Events for ROA
REFRESH-INTERVAL;VALUE=DURATION:PT1H
X-Robots-Tag:noindex
X-PUBLISHED-TTL:PT1H
BEGIN:VTIMEZONE
TZID:UTC
BEGIN:STANDARD
TZOFFSETFROM:+0000
TZOFFSETTO:+0000
TZNAME:UTC
DTSTART:20290101T000000
END:STANDARD
END:VTIMEZONE
BEGIN:VEVENT
DTSTART;TZID=UTC:20301017T000000
DTEND;TZID=UTC:20301020T000000
DTSTAMP:20260421T204322
CREATED:20251218T053921Z
LAST-MODIFIED:20260114T220602Z
UID:8089-1918425600-1918684800@roa.youare.ninja
SUMMARY:2030 Annual Meeting
DESCRIPTION:
URL:https://roa.youare.ninja/event/2030-annual-meeting/
CATEGORIES:National
END:VEVENT
END:VCALENDAR